BEGIN:VCALENDAR
VERSION:2.0
PRODID:-//Kinderlotse - ECPv6.15.17//NONSGML v1.0//EN
CALSCALE:GREGORIAN
METHOD:PUBLISH
X-WR-CALNAME:Kinderlotse
X-ORIGINAL-URL:https://kinderlotse.org
X-WR-CALDESC:Veranstaltungen für Kinderlotse
REFRESH-INTERVAL;VALUE=DURATION:PT1H
X-Robots-Tag:noindex
X-PUBLISHED-TTL:PT1H
BEGIN:VTIMEZONE
TZID:Europe/Berlin
BEGIN:DAYLIGHT
TZOFFSETFROM:+0100
TZOFFSETTO:+0200
TZNAME:CEST
DTSTART:20230326T010000
END:DAYLIGHT
BEGIN:STANDARD
TZOFFSETFROM:+0200
TZOFFSETTO:+0100
TZNAME:CET
DTSTART:20231029T010000
END:STANDARD
BEGIN:DAYLIGHT
TZOFFSETFROM:+0100
TZOFFSETTO:+0200
TZNAME:CEST
DTSTART:20240331T010000
END:DAYLIGHT
BEGIN:STANDARD
TZOFFSETFROM:+0200
TZOFFSETTO:+0100
TZNAME:CET
DTSTART:20241027T010000
END:STANDARD
BEGIN:DAYLIGHT
TZOFFSETFROM:+0100
TZOFFSETTO:+0200
TZNAME:CEST
DTSTART:20250330T010000
END:DAYLIGHT
BEGIN:STANDARD
TZOFFSETFROM:+0200
TZOFFSETTO:+0100
TZNAME:CET
DTSTART:20251026T010000
END:STANDARD
END:VTIMEZONE
BEGIN:VEVENT
DTSTART;TZID=Europe/Berlin:20241104T100000
DTEND;TZID=Europe/Berlin:20241104T121500
DTSTAMP:20260421T115410
CREATED:20240523T080429Z
LAST-MODIFIED:20241017T113322Z
UID:10000139-1730714400-1730722500@kinderlotse.org
SUMMARY:Pflegende Eltern - Wir sind nicht allein!
DESCRIPTION:Thema heute: Bindungsgewinnung mit Hindernissen – Wie trotz vieler\, langer\, früher Klinikaufenthalte eine sichere Bindungsentwicklung gelingt. \n  \nErfahrungen austauschen\, Impulse gewinnen\, Herausforderungen meistern. \nEin Angebot für pflegende Eltern und Angehörige.
URL:https://kinderlotse.org/event/pflegende-eltern-wir-sind-nicht-allein-4/
LOCATION:Kinderlotse Osterfeldstraße\, Osterfeldstraße 12-14\, Hamburg\, 22529\, Deutschland
CATEGORIES:Osterfeldstraße
ATTACH;FMTTYPE=image/jpeg:https://kinderlotse.org/wp-content/uploads/2023/03/KiLo_Fruehgeborenes_Familie.jpg
END:VEVENT
BEGIN:VEVENT
DTSTART;TZID=Europe/Berlin:20241107T110000
DTEND;TZID=Europe/Berlin:20241107T123000
DTSTAMP:20260421T115410
CREATED:20240619T073942Z
LAST-MODIFIED:20240701T072352Z
UID:10000159-1730977200-1730982600@kinderlotse.org
SUMMARY:Aufwachsen als Frühgeborenes - Spielgruppe mit wechselndem Thema
DESCRIPTION:Thema heute: Die ersten gemeinsamen Entwicklungsschritte mit Baby – Gemeinsam mit anderen Familien durch das erste Lebensjahr mit meinem zu früh geborenem Kind gehen. \nAufwachsen als Frühgeborenes
URL:https://kinderlotse.org/event/aufwachsen-als-fruehgeborenes-spielgruppe-mit-wechselndem-thema-9/
LOCATION:Kinderlotse Osterfeldstraße\, Osterfeldstraße 12-14\, Hamburg\, 22529\, Deutschland
CATEGORIES:Osterfeldstraße
ATTACH;FMTTYPE=image/jpeg:https://kinderlotse.org/wp-content/uploads/2023/04/kurse-aufwachsen-als-fruehgeborenes-02223-537.jpg
END:VEVENT
BEGIN:VEVENT
DTSTART;TZID=Europe/Berlin:20241107T133000
DTEND;TZID=Europe/Berlin:20241107T154500
DTSTAMP:20260421T115410
CREATED:20240619T074059Z
LAST-MODIFIED:20240701T072447Z
UID:10000160-1730986200-1730994300@kinderlotse.org
SUMMARY:Abbau von Unsicherheiten bei der Beikosteinführung bei Frühgeburt/gesundheitlichen Einschränkungen
DESCRIPTION:Ab wann können wir als Team in den neuen Meilenstein „Beikost“ starten?
URL:https://kinderlotse.org/event/abbau-von-unsicherheiten-bei-der-beikosteinfuehrung-bei-fruehgeburt-gesundheitlichen-einschraenkungen-7/
LOCATION:Kinderlotse Osterfeldstraße\, Osterfeldstraße 12-14\, Hamburg\, 22529\, Deutschland
CATEGORIES:Osterfeldstraße
ATTACH;FMTTYPE=image/jpeg:https://kinderlotse.org/wp-content/uploads/2023/03/KiLo_Fruehgeborenes_Familie.jpg
END:VEVENT
BEGIN:VEVENT
DTSTART;TZID=Europe/Berlin:20241113T163000
DTEND;TZID=Europe/Berlin:20241113T180000
DTSTAMP:20260421T115410
CREATED:20240919T085052Z
LAST-MODIFIED:20240919T085052Z
UID:10000186-1731515400-1731520800@kinderlotse.org
SUMMARY:Geschwisterkurs mit Theater - Thema: 'Gefühle'
DESCRIPTION:In Familien mit schwer/chronisch kranken Kindern besteht bei den Geschwisterkindern häufiger die Gefahr\, dass sie ihre eigenen Bedürfnisse und Gefühle in den Hintergrund stellen und zu früh Verantwortung in der Familie übernehmen. \nUm präventiv entgegenzuwirken\, bieten wir im Rahmen unseres RAPSI-Familien-Coaching-Programms Geschwisterkurse an. \nIn diesem Herbstkurs  (5 Termina á 90 Min.) wird das Thema „Gefühle“ mit allen Sinnen und dem ganzen Körper erfahrbar gemacht. Dafür nutzen wir verschiedene pädagogische Methoden und die Spielpraktik des Theaters. Teilnehmen können die gesunden und die kranken Geschwisterkinder allein oder zusammen. \n  \n>> Infoblatt Geschwisterkurs Herbst 2024 \n  \nWenn Sie Interesse an unseren Geschwisterkursen haben\, melden Sie sich gerne bei Britta Petereit: b.petereit@kinderlotse.org oder unter Mobil 01590 4344945.
URL:https://kinderlotse.org/event/geschwisterkurs-mit-theater/2024-11-13/
LOCATION:Inklusionskita RAPSI\, Dimpfelweg 13\, Hamburg\, 20537\, Deutschland
CATEGORIES:Kita RAPSI
END:VEVENT
BEGIN:VEVENT
DTSTART;TZID=Europe/Berlin:20241114T093000
DTEND;TZID=Europe/Berlin:20241114T110000
DTSTAMP:20260421T115410
CREATED:20240916T100625Z
LAST-MODIFIED:20240916T100625Z
UID:10000170-1731576600-1731582000@kinderlotse.org
SUMMARY:HH-Süd / Pflegende Eltern - Alltagsbewältigung
DESCRIPTION:Coaching zur Alltagsbewältigung für pflegende Eltern. Schwerpunkte: Schlaf\, Ernährung\, Entlastung.
URL:https://kinderlotse.org/event/hh-sued-pflegende-eltern-alltagsbewaeltigung-5/
LOCATION:Beratungsbüro Süd (Eingang Seniorenresidenz)\, Falkenbergsweg 1-3\, Hamburg\, 21149\, Deutschland
CATEGORIES:HH-süd
ATTACH;FMTTYPE=image/jpeg:https://kinderlotse.org/wp-content/uploads/2023/03/KiLo_Fruehgeborenes_Familie.jpg
END:VEVENT
BEGIN:VEVENT
DTSTART;TZID=Europe/Berlin:20241114T123000
DTEND;TZID=Europe/Berlin:20241114T140000
DTSTAMP:20260421T115410
CREATED:20240916T100730Z
LAST-MODIFIED:20240916T100730Z
UID:10000171-1731587400-1731592800@kinderlotse.org
SUMMARY:HH-Süd / Pflegende Eltern - Alltagsbewältigung
DESCRIPTION:Coaching zur Alltagsbewältigung für pflegende Eltern. Schwerpunkte: Schlaf\, Ernährung\, Entlastung.
URL:https://kinderlotse.org/event/hh-sued-pflegende-eltern-alltagsbewaeltigung-6/
LOCATION:Beratungsbüro Süd (Eingang Seniorenresidenz)\, Falkenbergsweg 1-3\, Hamburg\, 21149\, Deutschland
CATEGORIES:HH-süd
ATTACH;FMTTYPE=image/jpeg:https://kinderlotse.org/wp-content/uploads/2023/03/KiLo_Fruehgeborenes_Familie.jpg
END:VEVENT
BEGIN:VEVENT
DTSTART;TZID=Europe/Berlin:20241114T161500
DTEND;TZID=Europe/Berlin:20241114T170000
DTSTAMP:20260421T115410
CREATED:20240918T111957Z
LAST-MODIFIED:20241119T081431Z
UID:10000175-1731600900-1731603600@kinderlotse.org
SUMMARY:Musiktherapeutisches Coaching 'Klangoase'
DESCRIPTION:Das musiktherapeutische Coaching ‚Klangoase‘ baut für Kinder\, die einen schweren Start ins Leben hatten\, eine Brücke und gibt ihnen durch die Musik die Möglichkeit\, sich auszudrücken\, Erlebtes zu verarbeiten und sich für die Zukunft zu stärken. \n‚Klangoase‘ ist eine begleitende und niedrigschwellige Unterstützung für Kinder (1 bis 6 Jahre) – Geschwister sind herzlich willkommen. \nDer aktuelle Kurs ist ausgebucht! \nMelden Sie sich bei Interesse bitte unter 040/25495106 oder kurse@kinderlotse.org. Sehr gern besprechen wir weitere Möglichkeiten. \nDetaillierte Infos gibt es hier>>
URL:https://kinderlotse.org/event/musiktherapeutisches-angebot-klangoase/2024-11-14/
LOCATION:Kinderlotse Osterfeldstraße\, Osterfeldstraße 12-14\, Hamburg\, 22529\, Deutschland
CATEGORIES:Osterfeldstraße
END:VEVENT
BEGIN:VEVENT
DTSTART;TZID=Europe/Berlin:20241119T100000
DTEND;TZID=Europe/Berlin:20241119T121500
DTSTAMP:20260421T115410
CREATED:20240313T080142Z
LAST-MODIFIED:20241017T113500Z
UID:10000121-1732010400-1732018500@kinderlotse.org
SUMMARY:HH-Süd / Pflegende Eltern - Wir sind nicht allein!
DESCRIPTION:Thema heute: Weiche Watte oder klare Kante? – Entwicklungsbegleitung zwischen Diagnose\, Therapie\, Klinik und Alltagsleben. \n  \nErfahrungen austauschen\, Impulse gewinnen\, Herausforderungen meistern. \nEin Angebot für pflegende Eltern und Angehörige.
URL:https://kinderlotse.org/event/hamburg-sued-wir-sind-nicht-allein-3/
LOCATION:Beratungsbüro Süd (Eingang Seniorenresidenz)\, Falkenbergsweg 1-3\, Hamburg\, 21149\, Deutschland
CATEGORIES:HH-süd
ATTACH;FMTTYPE=image/jpeg:https://kinderlotse.org/wp-content/uploads/2023/03/KiLo_Fruehgeborenes_Familie.jpg
END:VEVENT
BEGIN:VEVENT
DTSTART;TZID=Europe/Berlin:20241120T163000
DTEND;TZID=Europe/Berlin:20241120T180000
DTSTAMP:20260421T115410
CREATED:20240919T085052Z
LAST-MODIFIED:20240919T085052Z
UID:10000187-1732120200-1732125600@kinderlotse.org
SUMMARY:Geschwisterkurs mit Theater - Thema: 'Gefühle'
DESCRIPTION:In Familien mit schwer/chronisch kranken Kindern besteht bei den Geschwisterkindern häufiger die Gefahr\, dass sie ihre eigenen Bedürfnisse und Gefühle in den Hintergrund stellen und zu früh Verantwortung in der Familie übernehmen. \nUm präventiv entgegenzuwirken\, bieten wir im Rahmen unseres RAPSI-Familien-Coaching-Programms Geschwisterkurse an. \nIn diesem Herbstkurs  (5 Termina á 90 Min.) wird das Thema „Gefühle“ mit allen Sinnen und dem ganzen Körper erfahrbar gemacht. Dafür nutzen wir verschiedene pädagogische Methoden und die Spielpraktik des Theaters. Teilnehmen können die gesunden und die kranken Geschwisterkinder allein oder zusammen. \n  \n>> Infoblatt Geschwisterkurs Herbst 2024 \n  \nWenn Sie Interesse an unseren Geschwisterkursen haben\, melden Sie sich gerne bei Britta Petereit: b.petereit@kinderlotse.org oder unter Mobil 01590 4344945.
URL:https://kinderlotse.org/event/geschwisterkurs-mit-theater/2024-11-20/
LOCATION:Inklusionskita RAPSI\, Dimpfelweg 13\, Hamburg\, 20537\, Deutschland
CATEGORIES:Kita RAPSI
END:VEVENT
BEGIN:VEVENT
DTSTART;TZID=Europe/Berlin:20241121T093000
DTEND;TZID=Europe/Berlin:20241121T103000
DTSTAMP:20260421T115410
CREATED:20240619T074243Z
LAST-MODIFIED:20240701T072521Z
UID:10000161-1732181400-1732185000@kinderlotse.org
SUMMARY:Aufwachsen als Frühgeborenes - Mehrlingstreff\, online
DESCRIPTION:Mehrlingstreff\, online –  Fachliche Impulse\, Austausch zu den Hürden im Alltag & Kontakte knüpfen zu anderen Familien mit Mehrlingen. \nAufwachsen als Frühgeborenes
URL:https://kinderlotse.org/event/aufwachsen-als-fruehgeborenes-mehrlingstreff-online-4/
LOCATION:Kinderlotse Osterfeldstraße\, Osterfeldstraße 12-14\, Hamburg\, 22529\, Deutschland
CATEGORIES:Online
ATTACH;FMTTYPE=image/jpeg:https://kinderlotse.org/wp-content/uploads/2022/09/herzImpuls-TN.jpg
END:VEVENT
BEGIN:VEVENT
DTSTART;TZID=Europe/Berlin:20241121T110000
DTEND;TZID=Europe/Berlin:20241121T123000
DTSTAMP:20260421T115410
CREATED:20240619T074428Z
LAST-MODIFIED:20240701T072542Z
UID:10000162-1732186800-1732192200@kinderlotse.org
SUMMARY:Aufwachsen als Frühgeborenes - Spielgruppe mit wechselndem Thema
DESCRIPTION:Thema heute: Entlastung im Alltag finden – Unseren Familienalltag analysieren\, Planung\, Rituale und Routinen-Struktur \nAufwachsen als Frühgeborenes
URL:https://kinderlotse.org/event/aufwachsen-als-fruehgeborenes-spielgruppe-mit-wechselndem-thema-10/
LOCATION:Kinderlotse Osterfeldstraße\, Osterfeldstraße 12-14\, Hamburg\, 22529\, Deutschland
CATEGORIES:Osterfeldstraße
ATTACH;FMTTYPE=image/jpeg:https://kinderlotse.org/wp-content/uploads/2023/03/KiLo_Fruehgeborenes_Familie.jpg
END:VEVENT
BEGIN:VEVENT
DTSTART;TZID=Europe/Berlin:20241121T161500
DTEND;TZID=Europe/Berlin:20241121T170000
DTSTAMP:20260421T115410
CREATED:20240918T111957Z
LAST-MODIFIED:20241119T081431Z
UID:10000201-1732205700-1732208400@kinderlotse.org
SUMMARY:Musiktherapeutisches Coaching 'Klangoase'
DESCRIPTION:Das musiktherapeutische Coaching ‚Klangoase‘ baut für Kinder\, die einen schweren Start ins Leben hatten\, eine Brücke und gibt ihnen durch die Musik die Möglichkeit\, sich auszudrücken\, Erlebtes zu verarbeiten und sich für die Zukunft zu stärken. \n‚Klangoase‘ ist eine begleitende und niedrigschwellige Unterstützung für Kinder (1 bis 6 Jahre) – Geschwister sind herzlich willkommen. \nDer aktuelle Kurs ist ausgebucht! \nMelden Sie sich bei Interesse bitte unter 040/25495106 oder kurse@kinderlotse.org. Sehr gern besprechen wir weitere Möglichkeiten. \nDetaillierte Infos gibt es hier>>
URL:https://kinderlotse.org/event/musiktherapeutisches-angebot-klangoase/2024-11-21/
LOCATION:Kinderlotse Osterfeldstraße\, Osterfeldstraße 12-14\, Hamburg\, 22529\, Deutschland
CATEGORIES:Osterfeldstraße
END:VEVENT
BEGIN:VEVENT
DTSTART;TZID=Europe/Berlin:20241127T163000
DTEND;TZID=Europe/Berlin:20241127T180000
DTSTAMP:20260421T115410
CREATED:20240919T085052Z
LAST-MODIFIED:20240919T085052Z
UID:10000188-1732725000-1732730400@kinderlotse.org
SUMMARY:Geschwisterkurs mit Theater - Thema: 'Gefühle'
DESCRIPTION:In Familien mit schwer/chronisch kranken Kindern besteht bei den Geschwisterkindern häufiger die Gefahr\, dass sie ihre eigenen Bedürfnisse und Gefühle in den Hintergrund stellen und zu früh Verantwortung in der Familie übernehmen. \nUm präventiv entgegenzuwirken\, bieten wir im Rahmen unseres RAPSI-Familien-Coaching-Programms Geschwisterkurse an. \nIn diesem Herbstkurs  (5 Termina á 90 Min.) wird das Thema „Gefühle“ mit allen Sinnen und dem ganzen Körper erfahrbar gemacht. Dafür nutzen wir verschiedene pädagogische Methoden und die Spielpraktik des Theaters. Teilnehmen können die gesunden und die kranken Geschwisterkinder allein oder zusammen. \n  \n>> Infoblatt Geschwisterkurs Herbst 2024 \n  \nWenn Sie Interesse an unseren Geschwisterkursen haben\, melden Sie sich gerne bei Britta Petereit: b.petereit@kinderlotse.org oder unter Mobil 01590 4344945.
URL:https://kinderlotse.org/event/geschwisterkurs-mit-theater/2024-11-27/
LOCATION:Inklusionskita RAPSI\, Dimpfelweg 13\, Hamburg\, 20537\, Deutschland
CATEGORIES:Kita RAPSI
END:VEVENT
END:VCALENDAR