BEGIN:VCALENDAR
VERSION:2.0
PRODID:-//Kinderlotse - ECPv6.15.17//NONSGML v1.0//EN
CALSCALE:GREGORIAN
METHOD:PUBLISH
X-WR-CALNAME:Kinderlotse
X-ORIGINAL-URL:https://kinderlotse.org
X-WR-CALDESC:Veranstaltungen für Kinderlotse
REFRESH-INTERVAL;VALUE=DURATION:PT1H
X-Robots-Tag:noindex
X-PUBLISHED-TTL:PT1H
BEGIN:VTIMEZONE
TZID:Europe/Berlin
BEGIN:DAYLIGHT
TZOFFSETFROM:+0100
TZOFFSETTO:+0200
TZNAME:CEST
DTSTART:20230326T010000
END:DAYLIGHT
BEGIN:STANDARD
TZOFFSETFROM:+0200
TZOFFSETTO:+0100
TZNAME:CET
DTSTART:20231029T010000
END:STANDARD
BEGIN:DAYLIGHT
TZOFFSETFROM:+0100
TZOFFSETTO:+0200
TZNAME:CEST
DTSTART:20240331T010000
END:DAYLIGHT
BEGIN:STANDARD
TZOFFSETFROM:+0200
TZOFFSETTO:+0100
TZNAME:CET
DTSTART:20241027T010000
END:STANDARD
BEGIN:DAYLIGHT
TZOFFSETFROM:+0100
TZOFFSETTO:+0200
TZNAME:CEST
DTSTART:20250330T010000
END:DAYLIGHT
BEGIN:STANDARD
TZOFFSETFROM:+0200
TZOFFSETTO:+0100
TZNAME:CET
DTSTART:20251026T010000
END:STANDARD
END:VTIMEZONE
BEGIN:VEVENT
DTSTART;TZID=Europe/Berlin:20241007T100000
DTEND;TZID=Europe/Berlin:20241007T121500
DTSTAMP:20260421T115349
CREATED:20240523T080200Z
LAST-MODIFIED:20240701T071844Z
UID:10000138-1728295200-1728303300@kinderlotse.org
SUMMARY:Pflegende Eltern - Wir sind nicht allein!
DESCRIPTION:Erfahrungen austauschen\, Impulse gewinnen\, Herausforderungen meistern. Ein Angebot für pflegende Eltern und Angehörige.
URL:https://kinderlotse.org/event/pflegende-eltern-wir-sind-nicht-allein-3/
LOCATION:Kinderlotse Osterfeldstraße\, Osterfeldstraße 12-14\, Hamburg\, 22529\, Deutschland
CATEGORIES:Osterfeldstraße
ATTACH;FMTTYPE=image/jpeg:https://kinderlotse.org/wp-content/uploads/2023/03/KiLo_Fruehgeborenes_Familie.jpg
END:VEVENT
BEGIN:VEVENT
DTSTART;TZID=Europe/Berlin:20241009T163000
DTEND;TZID=Europe/Berlin:20241009T180000
DTSTAMP:20260421T115349
CREATED:20240919T085052Z
LAST-MODIFIED:20240919T085052Z
UID:10000184-1728491400-1728496800@kinderlotse.org
SUMMARY:Geschwisterkurs mit Theater - Thema: 'Gefühle'
DESCRIPTION:In Familien mit schwer/chronisch kranken Kindern besteht bei den Geschwisterkindern häufiger die Gefahr\, dass sie ihre eigenen Bedürfnisse und Gefühle in den Hintergrund stellen und zu früh Verantwortung in der Familie übernehmen. \nUm präventiv entgegenzuwirken\, bieten wir im Rahmen unseres RAPSI-Familien-Coaching-Programms Geschwisterkurse an. \nIn diesem Herbstkurs  (5 Termina á 90 Min.) wird das Thema „Gefühle“ mit allen Sinnen und dem ganzen Körper erfahrbar gemacht. Dafür nutzen wir verschiedene pädagogische Methoden und die Spielpraktik des Theaters. Teilnehmen können die gesunden und die kranken Geschwisterkinder allein oder zusammen. \n  \n>> Infoblatt Geschwisterkurs Herbst 2024 \n  \nWenn Sie Interesse an unseren Geschwisterkursen haben\, melden Sie sich gerne bei Britta Petereit: b.petereit@kinderlotse.org oder unter Mobil 01590 4344945.
URL:https://kinderlotse.org/event/geschwisterkurs-mit-theater/2024-10-09/
LOCATION:Inklusionskita RAPSI\, Dimpfelweg 13\, Hamburg\, 20537\, Deutschland
CATEGORIES:Kita RAPSI
END:VEVENT
BEGIN:VEVENT
DTSTART;TZID=Europe/Berlin:20241010T110000
DTEND;TZID=Europe/Berlin:20241010T123000
DTSTAMP:20260421T115349
CREATED:20240619T072712Z
LAST-MODIFIED:20240701T071917Z
UID:10000155-1728558000-1728563400@kinderlotse.org
SUMMARY:Aufwachsen als Frühgeborenes - Spielgruppe mit wechselndem Thema
DESCRIPTION:Thema heute: Wie sich das Spielen verändert. Anregungen für die Spielgestaltung an die jeweilige Entwicklungsphase angepasst \nAufwachsen als Frühgeborenes
URL:https://kinderlotse.org/event/aufwachsen-als-fruehgeborenes-spielgruppe-mit-wechselndem-thema-8/
LOCATION:Kinderlotse Osterfeldstraße\, Osterfeldstraße 12-14\, Hamburg\, 22529\, Deutschland
CATEGORIES:Osterfeldstraße
ATTACH;FMTTYPE=image/jpeg:https://kinderlotse.org/wp-content/uploads/2023/04/kurse-aufwachsen-als-fruehgeborenes-02223-537.jpg
END:VEVENT
BEGIN:VEVENT
DTSTART;TZID=Europe/Berlin:20241010T161500
DTEND;TZID=Europe/Berlin:20241010T170000
DTSTAMP:20260421T115349
CREATED:20240918T111957Z
LAST-MODIFIED:20241119T081431Z
UID:10000172-1728576900-1728579600@kinderlotse.org
SUMMARY:Musiktherapeutisches Coaching 'Klangoase'
DESCRIPTION:Das musiktherapeutische Coaching ‚Klangoase‘ baut für Kinder\, die einen schweren Start ins Leben hatten\, eine Brücke und gibt ihnen durch die Musik die Möglichkeit\, sich auszudrücken\, Erlebtes zu verarbeiten und sich für die Zukunft zu stärken. \n‚Klangoase‘ ist eine begleitende und niedrigschwellige Unterstützung für Kinder (1 bis 6 Jahre) – Geschwister sind herzlich willkommen. \nDer aktuelle Kurs ist ausgebucht! \nMelden Sie sich bei Interesse bitte unter 040/25495106 oder kurse@kinderlotse.org. Sehr gern besprechen wir weitere Möglichkeiten. \nDetaillierte Infos gibt es hier>>
URL:https://kinderlotse.org/event/musiktherapeutisches-angebot-klangoase/2024-10-10/
LOCATION:Kinderlotse Osterfeldstraße\, Osterfeldstraße 12-14\, Hamburg\, 22529\, Deutschland
CATEGORIES:Osterfeldstraße
END:VEVENT
BEGIN:VEVENT
DTSTART;TZID=Europe/Berlin:20241016T163000
DTEND;TZID=Europe/Berlin:20241016T180000
DTSTAMP:20260421T115349
CREATED:20240919T085052Z
LAST-MODIFIED:20240919T085052Z
UID:10000185-1729096200-1729101600@kinderlotse.org
SUMMARY:Geschwisterkurs mit Theater - Thema: 'Gefühle'
DESCRIPTION:In Familien mit schwer/chronisch kranken Kindern besteht bei den Geschwisterkindern häufiger die Gefahr\, dass sie ihre eigenen Bedürfnisse und Gefühle in den Hintergrund stellen und zu früh Verantwortung in der Familie übernehmen. \nUm präventiv entgegenzuwirken\, bieten wir im Rahmen unseres RAPSI-Familien-Coaching-Programms Geschwisterkurse an. \nIn diesem Herbstkurs  (5 Termina á 90 Min.) wird das Thema „Gefühle“ mit allen Sinnen und dem ganzen Körper erfahrbar gemacht. Dafür nutzen wir verschiedene pädagogische Methoden und die Spielpraktik des Theaters. Teilnehmen können die gesunden und die kranken Geschwisterkinder allein oder zusammen. \n  \n>> Infoblatt Geschwisterkurs Herbst 2024 \n  \nWenn Sie Interesse an unseren Geschwisterkursen haben\, melden Sie sich gerne bei Britta Petereit: b.petereit@kinderlotse.org oder unter Mobil 01590 4344945.
URL:https://kinderlotse.org/event/geschwisterkurs-mit-theater/2024-10-16/
LOCATION:Inklusionskita RAPSI\, Dimpfelweg 13\, Hamburg\, 20537\, Deutschland
CATEGORIES:Kita RAPSI
END:VEVENT
BEGIN:VEVENT
DTSTART;TZID=Europe/Berlin:20241017T110000
DTEND;TZID=Europe/Berlin:20241017T123000
DTSTAMP:20260421T115349
CREATED:20240619T080256Z
LAST-MODIFIED:20240701T071944Z
UID:10000156-1729162800-1729168200@kinderlotse.org
SUMMARY:Aufwachsen als Frühgeborenes - Spielgruppe mit wechselndem Thema
DESCRIPTION:Thema heute: Work-Life-Balance und Abnabelung – Wie kann Überlastung beim Spagat zwischen Beruf und Familie vermieden werden ? \nAufwachsen als Frühgeborenes
URL:https://kinderlotse.org/event/aufwachsen-als-fruehgeborenes-spielgruppe-mit-wechselndem-thema-12/
LOCATION:Kinderlotse Osterfeldstraße\, Osterfeldstraße 12-14\, Hamburg\, 22529\, Deutschland
CATEGORIES:Osterfeldstraße
ATTACH;FMTTYPE=image/jpeg:https://kinderlotse.org/wp-content/uploads/2023/04/kurse-aufwachsen-als-fruehgeborenes-02223-537.jpg
END:VEVENT
BEGIN:VEVENT
DTSTART;TZID=Europe/Berlin:20241017T133000
DTEND;TZID=Europe/Berlin:20241017T154500
DTSTAMP:20260421T115349
CREATED:20240619T073618Z
LAST-MODIFIED:20240701T072043Z
UID:10000158-1729171800-1729179900@kinderlotse.org
SUMMARY:Pflegende Eltern - Schlafen\, Ruhen und Beruhigen
DESCRIPTION:Die Wichtigkeit der Alltagsgestaltung zur Förderung der Entwicklung und Stabilität in der Familie. Für pflegende Eltern und Angehörige.
URL:https://kinderlotse.org/event/pflegende-eltern-schlafen-ruhen-und-beruhigen-2/
LOCATION:Kinderlotse Osterfeldstraße\, Osterfeldstraße 12-14\, Hamburg\, 22529\, Deutschland
CATEGORIES:Osterfeldstraße
ATTACH;FMTTYPE=image/jpeg:https://kinderlotse.org/wp-content/uploads/2023/03/KiLo_Fruehgeborenes_Familie.jpg
END:VEVENT
BEGIN:VEVENT
DTSTART;TZID=Europe/Berlin:20241017T161500
DTEND;TZID=Europe/Berlin:20241017T170000
DTSTAMP:20260421T115349
CREATED:20240918T111957Z
LAST-MODIFIED:20241119T081431Z
UID:10000173-1729181700-1729184400@kinderlotse.org
SUMMARY:Musiktherapeutisches Coaching 'Klangoase'
DESCRIPTION:Das musiktherapeutische Coaching ‚Klangoase‘ baut für Kinder\, die einen schweren Start ins Leben hatten\, eine Brücke und gibt ihnen durch die Musik die Möglichkeit\, sich auszudrücken\, Erlebtes zu verarbeiten und sich für die Zukunft zu stärken. \n‚Klangoase‘ ist eine begleitende und niedrigschwellige Unterstützung für Kinder (1 bis 6 Jahre) – Geschwister sind herzlich willkommen. \nDer aktuelle Kurs ist ausgebucht! \nMelden Sie sich bei Interesse bitte unter 040/25495106 oder kurse@kinderlotse.org. Sehr gern besprechen wir weitere Möglichkeiten. \nDetaillierte Infos gibt es hier>>
URL:https://kinderlotse.org/event/musiktherapeutisches-angebot-klangoase/2024-10-17/
LOCATION:Kinderlotse Osterfeldstraße\, Osterfeldstraße 12-14\, Hamburg\, 22529\, Deutschland
CATEGORIES:Osterfeldstraße
END:VEVENT
BEGIN:VEVENT
DTSTART;TZID=Europe/Berlin:20241029T100000
DTEND;TZID=Europe/Berlin:20241029T121500
DTSTAMP:20260421T115349
CREATED:20240313T080107Z
LAST-MODIFIED:20241017T113056Z
UID:10000120-1730196000-1730204100@kinderlotse.org
SUMMARY:HH-Süd / Pflegende Eltern - Wir sind nicht allein!
DESCRIPTION:Thema heute: Bindungsgewinnung mit Hindernissen – Wie trotz vieler\, langer\, früher Klinikaufenthalte eine sichere Bindungsentwicklung gelingt. \n  \nErfahrungen austauschen\, Impulse gewinnen\, Herausforderungen meistern. \nEin Angebot für pflegende Eltern und Angehörige.
URL:https://kinderlotse.org/event/hamburg-sued-wir-sind-nicht-allein-2/
LOCATION:Beratungsbüro Süd (Eingang Seniorenresidenz)\, Falkenbergsweg 1-3\, Hamburg\, 21149\, Deutschland
CATEGORIES:HH-süd
ATTACH;FMTTYPE=image/jpeg:https://kinderlotse.org/wp-content/uploads/2023/03/KiLo_Fruehgeborenes_Familie.jpg
END:VEVENT
END:VCALENDAR