BEGIN:VCALENDAR
VERSION:2.0
PRODID:-//Kinderlotse - ECPv6.15.17//NONSGML v1.0//EN
CALSCALE:GREGORIAN
METHOD:PUBLISH
X-WR-CALNAME:Kinderlotse
X-ORIGINAL-URL:https://kinderlotse.org
X-WR-CALDESC:Veranstaltungen für Kinderlotse
REFRESH-INTERVAL;VALUE=DURATION:PT1H
X-Robots-Tag:noindex
X-PUBLISHED-TTL:PT1H
BEGIN:VTIMEZONE
TZID:Europe/Berlin
BEGIN:DAYLIGHT
TZOFFSETFROM:+0100
TZOFFSETTO:+0200
TZNAME:CEST
DTSTART:20220327T010000
END:DAYLIGHT
BEGIN:STANDARD
TZOFFSETFROM:+0200
TZOFFSETTO:+0100
TZNAME:CET
DTSTART:20221030T010000
END:STANDARD
BEGIN:DAYLIGHT
TZOFFSETFROM:+0100
TZOFFSETTO:+0200
TZNAME:CEST
DTSTART:20230326T010000
END:DAYLIGHT
BEGIN:STANDARD
TZOFFSETFROM:+0200
TZOFFSETTO:+0100
TZNAME:CET
DTSTART:20231029T010000
END:STANDARD
BEGIN:DAYLIGHT
TZOFFSETFROM:+0100
TZOFFSETTO:+0200
TZNAME:CEST
DTSTART:20240331T010000
END:DAYLIGHT
BEGIN:STANDARD
TZOFFSETFROM:+0200
TZOFFSETTO:+0100
TZNAME:CET
DTSTART:20241027T010000
END:STANDARD
END:VTIMEZONE
BEGIN:VEVENT
DTSTART;TZID=Europe/Berlin:20230803T100000
DTEND;TZID=Europe/Berlin:20230803T121500
DTSTAMP:20260421T165744
CREATED:20230626T122456Z
LAST-MODIFIED:20230629T121651Z
UID:10000035-1691056800-1691064900@kinderlotse.org
SUMMARY:Nach der Klinikzeit die Nahrungsmenge sowie die Gewichtsentwicklung selber einschätzen und managen
DESCRIPTION:  \n 
URL:https://kinderlotse.org/event/nach-der-klinikzeit-die-nahrungsmenge-sowie-die-gewichtsentwicklung-selber-einschaetzen-und-managen/
LOCATION:Kinderlotse Osterfeldstraße\, Osterfeldstraße 12-14\, Hamburg\, 22529\, Deutschland
ATTACH;FMTTYPE=image/jpeg:https://kinderlotse.org/wp-content/uploads/2023/03/KiLo_Fruehgeborenes_Familie.jpg
END:VEVENT
BEGIN:VEVENT
DTSTART;TZID=Europe/Berlin:20230810T110000
DTEND;TZID=Europe/Berlin:20230810T123000
DTSTAMP:20260421T165744
CREATED:20230626T114925Z
LAST-MODIFIED:20240226T090821Z
UID:10000029-1691665200-1691670600@kinderlotse.org
SUMMARY:Die ersten gemeinsamen Entwicklungsschritte mit Baby
DESCRIPTION:Gemeinsam mit anderen Familien durch das erste Lebensjahr mit meinem zu früh geborenem Kind gehen. \nAufwachsen als Frühgeborenes
URL:https://kinderlotse.org/event/aufwachsen-als-fruehgeborenes-thema-1/
LOCATION:Kinderlotse Osterfeldstraße\, Osterfeldstraße 12-14\, Hamburg\, 22529\, Deutschland
ATTACH;FMTTYPE=image/jpeg:https://kinderlotse.org/wp-content/uploads/2023/04/kurse-aufwachsen-als-fruehgeborenes-02223-537.jpg
END:VEVENT
BEGIN:VEVENT
DTSTART;TZID=Europe/Berlin:20230810T130000
DTEND;TZID=Europe/Berlin:20230810T151500
DTSTAMP:20260421T165744
CREATED:20230626T122725Z
LAST-MODIFIED:20230629T121616Z
UID:10000037-1691672400-1691680500@kinderlotse.org
SUMMARY:Mit Kind im (Pflege)-Alltag unterwegs.
DESCRIPTION:Welche Tragemöglichkeit ist für uns die Beste?  \nWie kann ich durch das sichere Tragen mein Baby/Kind in seiner Entwicklung fördern und wie sollte ich tragen\, um mich zu entlasten?
URL:https://kinderlotse.org/event/mit-kind-im-pflege-alltag-unterwegs/
LOCATION:Kinderlotse Osterfeldstraße\, Osterfeldstraße 12-14\, Hamburg\, 22529\, Deutschland
ATTACH;FMTTYPE=image/jpeg:https://kinderlotse.org/wp-content/uploads/2023/03/KiLo_Fruehgeborenes_Familie.jpg
END:VEVENT
BEGIN:VEVENT
DTSTART;TZID=Europe/Berlin:20230817T093000
DTEND;TZID=Europe/Berlin:20230817T103000
DTSTAMP:20260421T165744
CREATED:20230626T115448Z
LAST-MODIFIED:20230626T115448Z
UID:10000031-1692264600-1692268200@kinderlotse.org
SUMMARY:Mehrlingstreff\, online
DESCRIPTION:Mehrlingstreff\, online \nFachliche Impulse\, Austausch zu den Hürden im Alltag & Kontakte knüpfen zu anderen Familien mit Mehrlingen.
URL:https://kinderlotse.org/event/mehrlingstreff-online-2/
LOCATION:Kinderlotse Osterfeldstraße\, Osterfeldstraße 12-14\, Hamburg\, 22529\, Deutschland
ATTACH;FMTTYPE=image/jpeg:https://kinderlotse.org/wp-content/uploads/2022/09/herzImpuls-TN.jpg
END:VEVENT
BEGIN:VEVENT
DTSTART;TZID=Europe/Berlin:20230817T110000
DTEND;TZID=Europe/Berlin:20230817T123000
DTSTAMP:20260421T165744
CREATED:20230626T115255Z
LAST-MODIFIED:20240226T091030Z
UID:10000030-1692270000-1692275400@kinderlotse.org
SUMMARY:Entlastung im Alltag finden
DESCRIPTION:Unseren Familienalltag analysieren\, Planung\, Rituale und Routinen-Struktur \nAufwachsen als Frühgeborenes
URL:https://kinderlotse.org/event/aufwachsen-als-fruehgeborenes-thema-2/
LOCATION:Kinderlotse Osterfeldstraße\, Osterfeldstraße 12-14\, Hamburg\, 22529\, Deutschland
ATTACH;FMTTYPE=image/jpeg:https://kinderlotse.org/wp-content/uploads/2023/03/KiLo_Fruehgeborenes_Familie.jpg
END:VEVENT
BEGIN:VEVENT
DTSTART;TZID=Europe/Berlin:20230824T110000
DTEND;TZID=Europe/Berlin:20230824T131500
DTSTAMP:20260421T165744
CREATED:20230821T090823Z
LAST-MODIFIED:20230821T090823Z
UID:10000047-1692874800-1692882900@kinderlotse.org
SUMMARY:Abbau von Unsicherheiten bei der Beikosteinführung bei Frühgeburt/gesundheitlichen Einschränkungen
DESCRIPTION:Ab wann können wir als Team in den neuen Meilenstein „Beikost“ starten?
URL:https://kinderlotse.org/event/abbau-von-unsicherheiten-bei-der-beikosteinfuehrung-bei-fruehgeburt-gesundheitlichen-einschraenkungen-2/
LOCATION:Kinderlotse Osterfeldstraße\, Osterfeldstraße 12-14\, Hamburg\, 22529\, Deutschland
ATTACH;FMTTYPE=image/jpeg:https://kinderlotse.org/wp-content/uploads/2023/03/KiLo_Fruehgeborenes_Familie.jpg
END:VEVENT
BEGIN:VEVENT
DTSTART;TZID=Europe/Berlin:20230824T153000
DTEND;TZID=Europe/Berlin:20230824T170000
DTSTAMP:20260421T165744
CREATED:20230626T114409Z
LAST-MODIFIED:20230626T114409Z
UID:10000027-1692891000-1692896400@kinderlotse.org
SUMMARY:Familiennachmittag
DESCRIPTION:Familiennachmittag im Kinderlotsen \nDer Familiennachmittag ist geplant für Mutter/Vater eines Frühgeborenen oder kranken Kindes. Geschwisterkinder sind herzlich willkommen.
URL:https://kinderlotse.org/event/familiennachmittag/
LOCATION:Kinderlotse Osterfeldstraße\, Osterfeldstraße 12-14\, Hamburg\, 22529\, Deutschland
ATTACH;FMTTYPE=image/jpeg:https://kinderlotse.org/wp-content/uploads/2023/04/kurse-aufwachsen-als-fruehgeborenes-02223-537.jpg
END:VEVENT
BEGIN:VEVENT
DTSTART;TZID=Europe/Berlin:20230831T100000
DTEND;TZID=Europe/Berlin:20230831T121500
DTSTAMP:20260421T165744
CREATED:20230626T123207Z
LAST-MODIFIED:20230629T121519Z
UID:10000039-1693476000-1693484100@kinderlotse.org
SUMMARY:Probleme mit der Einführung der Bei- und Familienkost meistern
DESCRIPTION:Nicht immer gelingt die Ernährungsumstellung und -erweiterung problemfrei
URL:https://kinderlotse.org/event/probleme-mit-der-einfuehrung-der-bei-und-familienkost-meistern/
LOCATION:Kinderlotse Osterfeldstraße\, Osterfeldstraße 12-14\, Hamburg\, 22529\, Deutschland
ATTACH;FMTTYPE=image/jpeg:https://kinderlotse.org/wp-content/uploads/2023/03/KiLo_Fruehgeborenes_Familie.jpg
END:VEVENT
BEGIN:VEVENT
DTSTART;TZID=Europe/Berlin:20230831T130000
DTEND;TZID=Europe/Berlin:20230831T151500
DTSTAMP:20260421T165744
CREATED:20230626T123352Z
LAST-MODIFIED:20230629T121455Z
UID:10000040-1693486800-1693494900@kinderlotse.org
SUMMARY:Schlafen\, Ruhen und Beruhigen
DESCRIPTION:Die Wichtigkeit der Alltagsgestaltung zur Förderung der Entwicklung und Stabilität in der Familie
URL:https://kinderlotse.org/event/schlafen-ruhen-und-beruhigen/
LOCATION:Kinderlotse Osterfeldstraße\, Osterfeldstraße 12-14\, Hamburg\, 22529\, Deutschland
ATTACH;FMTTYPE=image/jpeg:https://kinderlotse.org/wp-content/uploads/2023/03/KiLo_Fruehgeborenes_Familie.jpg
END:VEVENT
END:VCALENDAR