BEGIN:VCALENDAR
VERSION:2.0
PRODID:-//Kinderlotse - ECPv6.15.17//NONSGML v1.0//EN
CALSCALE:GREGORIAN
METHOD:PUBLISH
X-WR-CALNAME:Kinderlotse
X-ORIGINAL-URL:https://kinderlotse.org
X-WR-CALDESC:Veranstaltungen für Kinderlotse
REFRESH-INTERVAL;VALUE=DURATION:PT1H
X-Robots-Tag:noindex
X-PUBLISHED-TTL:PT1H
BEGIN:VTIMEZONE
TZID:Europe/Berlin
BEGIN:DAYLIGHT
TZOFFSETFROM:+0100
TZOFFSETTO:+0200
TZNAME:CEST
DTSTART:20230326T010000
END:DAYLIGHT
BEGIN:STANDARD
TZOFFSETFROM:+0200
TZOFFSETTO:+0100
TZNAME:CET
DTSTART:20231029T010000
END:STANDARD
BEGIN:DAYLIGHT
TZOFFSETFROM:+0100
TZOFFSETTO:+0200
TZNAME:CEST
DTSTART:20240331T010000
END:DAYLIGHT
BEGIN:STANDARD
TZOFFSETFROM:+0200
TZOFFSETTO:+0100
TZNAME:CET
DTSTART:20241027T010000
END:STANDARD
BEGIN:DAYLIGHT
TZOFFSETFROM:+0100
TZOFFSETTO:+0200
TZNAME:CEST
DTSTART:20250330T010000
END:DAYLIGHT
BEGIN:STANDARD
TZOFFSETFROM:+0200
TZOFFSETTO:+0100
TZNAME:CET
DTSTART:20251026T010000
END:STANDARD
END:VTIMEZONE
BEGIN:VEVENT
DTSTART;TZID=Europe/Berlin:20240222T110000
DTEND;TZID=Europe/Berlin:20240222T123000
DTSTAMP:20260423T114155
CREATED:20231215T084002Z
LAST-MODIFIED:20240229T103842Z
UID:10000079-1708599600-1708605000@kinderlotse.org
SUMMARY:Spielen ist mehr und will gelernt sein
DESCRIPTION:Welches Spielzeug ist wann und für was das Richtige. Zwischen Langeweile und Überforderung des Babys die Balance finden. \nAufwachsen als Frühgeborenes
URL:https://kinderlotse.org/event/aufwachsen-als-fruehgeborenes-thema-5-3/
LOCATION:Kinderlotse Osterfeldstraße\, Osterfeldstraße 12-14\, Hamburg\, 22529\, Deutschland
ATTACH;FMTTYPE=image/jpeg:https://kinderlotse.org/wp-content/uploads/2023/04/kurse-aufwachsen-als-fruehgeborenes-02223-537.jpg
END:VEVENT
END:VCALENDAR